BEGIN:VCALENDAR
VERSION:2.0
PRODID:-//NG Entrena Vigo - ECPv6.3.7//NONSGML v1.0//EN
CALSCALE:GREGORIAN
METHOD:PUBLISH
X-ORIGINAL-URL:https://www.ngentrenavigo.com
X-WR-CALDESC:Eventos para NG Entrena Vigo
REFRESH-INTERVAL;VALUE=DURATION:PT1H
X-Robots-Tag:noindex
X-PUBLISHED-TTL:PT1H
BEGIN:VTIMEZONE
TZID:UTC
BEGIN:STANDARD
TZOFFSETFROM:+0000
TZOFFSETTO:+0000
TZNAME:UTC
DTSTART:20240101T000000
END:STANDARD
END:VTIMEZONE
BEGIN:VEVENT
DTSTART;TZID=UTC:20241020T080000
DTEND;TZID=UTC:20241020T170000
DTSTAMP:20260424T194945
CREATED:20241014T162536Z
LAST-MODIFIED:20241014T162536Z
UID:9200-1729411200-1729443600@www.ngentrenavigo.com
SUMMARY:Carrera Vigo contra el Cáncer
DESCRIPTION:Nordic Walking Vigo no puede faltar a esta cita tan importante\, ya que los beneficios conseguidos con la práctica de la Marcha Nórdica\, están muy relacionados con esta patología.
URL:https://www.ngentrenavigo.com/evento/carrera-vigo-contra-el-cancer/
CATEGORIES:Marcha nórdica,Rutas Galicia
ATTACH;FMTTYPE=image/jpeg:https://www.ngentrenavigo.com/wp-content/uploads/2024/10/WhatsApp-Image-2024-10-14-at-18.24.54.jpeg
END:VEVENT
END:VCALENDAR